BEGIN:VCALENDAR
VERSION:2.0
PRODID:DPCALENDAR
CALSCALE:GREGORIAN
BEGIN:VTIMEZONE
TZID:Australia/Sydney
X-MICROSOFT-CDO-TZID:76
BEGIN:DAYLIGHT
DTSTART:20251004T160000
TZOFFSETFROM:+1000
TZOFFSETTO:+1100
TZNAME:AEDT
END:DAYLIGHT
BEGIN:DAYLIGHT
DTSTART:20261003T160000
TZOFFSETFROM:+1000
TZOFFSETTO:+1100
TZNAME:AEDT
END:DAYLIGHT
BEGIN:STANDARD
DTSTART:20260404T160000
TZOFFSETFROM:+1100
TZOFFSETTO:+1000
TZNAME:AEST
END:STANDARD
END:VTIMEZONE
X-WR-TIMEZONE:Australia/Sydney
BEGIN:VEVENT
DTSTART;TZID=Australia/Sydney:20190316T140000
DTEND;TZID=Australia/Sydney:20190316T200000
UID:4E597494-5B23-4B9C-9280-C7DF195CB3F5
SUMMARY:Round Australia Trials Reunion
DTSTAMP:20190121T030421Z
DESCRIPTION:Details coming soon.
X-ALT-DESC;FMTTYPE=text/html:<p>Details coming soon.</p>
LAST-MODIFIED:20190121T030509Z
X-ACCESS:1
X-HITS:327
X-URL:
X-COLOR:c7b210
END:VEVENT
BEGIN:VEVENT
DTSTART;VALUE=DATE:20190328
DTEND;VALUE=DATE:20190331
UID:B552AD8D-7F09-422F-946F-C2C390F6F3E0
SUMMARY:Black Stump Tour of Central West
DTSTAMP:20190121T030138Z
DESCRIPTION:Details to come soon.
X-ALT-DESC;FMTTYPE=text/html:<p>Details to come soon.</p>
X-ACCESS:1
X-HITS:528
X-URL:
X-COLOR:c7b210
END:VEVENT
BEGIN:VEVENT
DTSTART;VALUE=DATE:20220211
DTEND;VALUE=DATE:20220214
UID:C6F2C83D-AD0D-4A11-8526-D41CE075C57B
SUMMARY:Targa High Country
DTSTAMP:20220129T080053Z
DESCRIPTION:See the event website.
X-ALT-DESC;FMTTYPE=text/html:<p>See the <a href="https://targa.com.au/targa-high-country-competition/" target="_blank" rel="noopener noreferrer">event website</a>.</p>
LAST-MODIFIED:20220129T122058Z
X-ACCESS:1
X-HITS:289
X-URL:https://targa.com.au/targa-high-country-competition/
X-COLOR:c7b210
END:VEVENT
BEGIN:VEVENT
DTSTART;VALUE=DATE:20220305
DTEND;VALUE=DATE:20220306
UID:831AF1A1-3AD2-48D6-8466-B86FABA18EA8
SUMMARY:Minis Downunder
DTSTAMP:20220129T080053Z
DESCRIPTION:See the event website.
X-ALT-DESC;FMTTYPE=text/html:<p>See the <a href="https://miniclub.com.au/current-events/" target="_blank" rel="noopener noreferrer">event website</a>.</p>
LAST-MODIFIED:20220129T122350Z
X-ACCESS:1
X-HITS:920
X-URL:https://miniclub.com.au/current-events/
X-COLOR:c7b210
END:VEVENT
BEGIN:VEVENT
DTSTART;VALUE=DATE:20220326
DTEND;VALUE=DATE:20220403
UID:E6901E7A-56EB-4E24-9F43-66B8A72E6AD0
SUMMARY:Classic Outback Trial
DTSTAMP:20220129T080053Z
DESCRIPTION:See the event website.
X-ALT-DESC;FMTTYPE=text/html:<p>See the <a href="https://classicoutbacktrial.com.au/" target="_blank" rel="noopener noreferrer">event website</a>.</p>
LAST-MODIFIED:20220129T122405Z
X-ACCESS:1
X-HITS:834
X-URL:https://classicoutbacktrial.com.au/
X-COLOR:c7b210
END:VEVENT
BEGIN:VEVENT
DTSTART;VALUE=DATE:20220408
DTEND;VALUE=DATE:20220411
UID:C9E19EA3-7291-4D0C-974C-8D1557945A90
SUMMARY:Mt Baw Baw Sprints
DTSTAMP:20220129T080053Z
DESCRIPTION:See the event website.
X-ALT-DESC;FMTTYPE=text/html:<p>See the <a href="https://mountbawbaw.com.au/baw-baw-sprint" target="_blank" rel="noopener noreferrer">event website</a>.</p>
LAST-MODIFIED:20220129T122419Z
X-ACCESS:1
X-HITS:719
X-URL:https://mountbawbaw.com.au/baw-baw-sprint
X-COLOR:c7b210
END:VEVENT
BEGIN:VEVENT
DTSTART;VALUE=DATE:20220426
DTEND;VALUE=DATE:20220504
UID:C6896217-0361-4777-923C-E681AEB3E6C8
SUMMARY:Targa Tasmania
DTSTAMP:20220129T080053Z
DESCRIPTION:See the event website.
X-ALT-DESC;FMTTYPE=text/html:<p>See the <a href="https://targa.com.au/" target="_blank" rel="noopener noreferrer">event website</a>.</p>
LAST-MODIFIED:20220129T122546Z
X-ACCESS:1
X-HITS:832
X-URL:https://targa.com.au/
X-COLOR:c7b210
END:VEVENT
BEGIN:VEVENT
DTSTART;VALUE=DATE:20220528
DTEND;VALUE=DATE:20220530
UID:F6F035F6-33B0-473A-BBAE-B15DCB74BCCD
SUMMARY:Snowy River Sprint
DTSTAMP:20220129T080053Z
DESCRIPTION:See the event website.
X-ALT-DESC;FMTTYPE=text/html:<p>See the <a href="https://www.australiantarmacrally.com/srs" target="_blank" rel="noopener noreferrer">event website</a>.</p>
LAST-MODIFIED:20220129T123315Z
X-ACCESS:1
X-HITS:659
X-URL:https://www.australiantarmacrally.com/srs
X-COLOR:c7b210
END:VEVENT
BEGIN:VEVENT
DTSTART;VALUE=DATE:20220820
DTEND;VALUE=DATE:20220822
UID:B1BDE0EE-775D-46EE-A849-986085935497
SUMMARY:Rylstone Classic (Not confirmed)
DTSTAMP:20220129T080053Z
DESCRIPTION:See the event website.
X-ALT-DESC;FMTTYPE=text/html:<p>See the <a href="https://www.rylstoneclassic.com/" target="_blank" rel="noopener noreferrer">event website</a>.</p>
LAST-MODIFIED:20220129T123647Z
X-ACCESS:1
X-HITS:1062
X-URL:https://www.rylstoneclassic.com/
X-COLOR:c7b210
END:VEVENT
BEGIN:VEVENT
DTSTART;VALUE=DATE:20221027
DTEND;VALUE=DATE:20221107
UID:AC8BE801-34FB-4D96-99F8-FB3802C71B8D
SUMMARY:Perth to Sydney Marathon
DTSTAMP:20220129T080053Z
DESCRIPTION:See the event website.
X-ALT-DESC;FMTTYPE=text/html:<p>See the <a href="https://vogueautomotive.com.au/events/perth-sydney-marathon-2022/" target="_blank" rel="noopener noreferrer">event website</a>.</p>
LAST-MODIFIED:20220129T124210Z
X-ACCESS:1
X-HITS:1520
X-URL:https://vogueautomotive.com.au/events/perth-sydney-marathon-2022/
X-COLOR:c7b210
END:VEVENT
BEGIN:VEVENT
DTSTART;VALUE=DATE:20240319
DTEND;VALUE=DATE:20240324
UID:24C297EF-C90C-41D5-A498-65AABDB63B00
SUMMARY:Tour of the Snowy
DTSTAMP:20231007T114904Z
DESCRIPTION:Following the deferral of the Great Southern Reliability Trial, the Historic Racing Club of NSW/ACT has extended the Tour of the Snowy to 5 days and included a run to Lakes Entrance in Victoria. We will take the opportunity to explore some of the magic mountain country in the eastern half of that state.\NWe will be visiting all the reservoirs and roads possible in the Snowy Mountains Hydro Electric scheme. A couple of roads only recently re-opened and many closed during the winter months.\NWe will start at Yass on Tuesday the 19th and will then overnight at Cooma (twice), Lakes Entrance and Tumut (twice) where we will finishwith an windup dinner on the Saturday evening.\NThe route is approximately 2200 km with the full tarmac option and an option with about one third gravel.\NThe option will also be there for cars to participate for any number of days that they choose if the full 5 days doesn’t suit.\NDave Johnson will be the Tour Organiser and with the 2 days extension into Victoria now included, Ian Richards has thrown his weight behind the Tour of the Snowy to show us the best of Victorian roads and scenery available.\NFull details available shortly.
X-ALT-DESC;FMTTYPE=text/html:<p>Following the deferral of the Great Southern Reliability Trial, the Historic Racing Club of NSW/ACT has extended the Tour of the Snowy to 5 days and included a run to Lakes Entrance in Victoria. We will take the opportunity to explore some of the magic mountain country in the eastern half of that state.</p><p>We will be visiting all the reservoirs and roads possible in the Snowy Mountains Hydro Electric scheme. A couple of roads only recently re-<br />opened and many closed during the winter months.</p><p>We will start at Yass on Tuesday the 19th and will then overnight at Cooma (twice), Lakes Entrance and Tumut (twice) where we will finish<br />with an windup dinner on the Saturday evening.</p><p>The route is approximately 2200 km with the full tarmac option and an option with about one third gravel.</p><p>The option will also be there for cars to participate for any number of days that they choose if the full 5 days doesn’t suit.</p><p>Dave Johnson will be the Tour Organiser and with the 2 days extension into Victoria now included, Ian Richards has thrown his weight behind the Tour of the Snowy to show us the best of Victorian roads and scenery available.</p><p>Full details available shortly.</p>
LAST-MODIFIED:20231006T212802Z
X-ACCESS:1
X-HITS:1314
X-URL:
X-COLOR:c7b210
END:VEVENT
BEGIN:VEVENT
DTSTART;VALUE=DATE:20240814
DTEND;VALUE=DATE:20240818
UID:10F9545D-18AC-4F39-B85F-CDF488426E9F
SUMMARY:Tour to the Sunshine State
DTSTAMP:20231007T114904Z
DESCRIPTION:Exploring the country on either side of the NSW-Queensland border, the tour is inspired by the 1969 Southern Cross Rally and is traversing many of its competitive sections. The scenery is spectacular and the roads are on the most part magnificent. The terrain varies from the coastal hills to the rugged Great Dividing Range and beyond to thegrazing country of the Darling Downs.\NA social, non-competitive Tour with the option of Regular (with gravel) or Tarmac Course of about 1,700 km.\N1, 2 and 3 days options are available and particularly suitable for those who may wish to attend the Historic Leyburn Sprints.\NMurwillumbah (Start) - Nimbin - Lismore (Overnight) - Woodenbong - Aratula - Toowoomba (Overnight) - Leyburn - Texas - Warwick - Toowoomba (Overnight)- Nanango - Kilcoy - Kallangur (Finish)\NTour Organiser: Ian Richards assisted by Winton Brocklebank.\NDocumentation\N\NPoster\NNotice of the event\NUpdate notice - 19 June\NAccommodation guide\NEntry form\N\NEvent news\NWhen we decided to celebrate the 1969 Southern Cross Rally in a Social Non-competitive Tour we didn’t quite realise the likely response from participants from that old event nor even if there were many still around.\NFirstly while not participating in the Tour but there to talk with us at Toowoomba will be Allan Lawson, Director of the 1969 Southern Cross. That event was unlike any other Southern Cross as Allan had to go to Queensland to run it as NSW were having an issue with the Police and Shires Association, so his job was doubly difficult.\NThe 1969 Southern Cross was won by Andrew Cowan and Dave Johnson in a UK prepared BMC 1800, left in Australia after the London to Sydney Marathon of 1968.\NVictorian rallyist, Tim Kennon, has for several years now been the owner of this car and Tim will be driving the 69 SX winning car in the Tour to the Sunshine State. Entered in the marathon as a BMC 1800, as were another 7 cars including all the factory cars, and the win in the 1969 SX advertised it as an Austin 1800 (Australia didn’t sell Morris 1800s), Tim insists that he has proof that it is really a Morris 1800. The car comes with the Lucien Bianchi Trophy that it won in 69 SX.\NThe set-up car from 1969 was driven by Graham Thompson who will be with us again this time driving the Sweep car for the Regular Course in the Tour.\NIan Richards, Tour Organiser for the Tour to the Sunshine State will be doing set-up in August and will have Roger Bonhomme sitting beside him. Roger navigated Barry Ferguson in the Holden Dealer Team Monaro GTS to fourth place in the 1969 event. Barry himself has not yet been able to commit to enter the Tour.\NAnother finisher and second place in Class D in 1969 was Peter Houghton. He is joining us in August although not in the same Peugeot that he used in 1969.\NVictorian Bob Watson, who led the Waltons Rally Team of Renault TS’s in the 69 SX, will be with us in August as will be Dave Boddy from Newcastle. Dave is now well recognised as one of Australia’s best navigators, but in 1969 was driving his own entered Ford Falcon. He is recorded as bettering by one minute both Andrew Cowan’s and Colin Bond’s times in a section during the 69 SX.\NAnd we have Dave Johnson, winning navigator with Andrew Cowan for the 69 SX, on the organising team for the Tour and driving the four days of the Tour with the rest of us.\NThere are another couple of ex 69ers that may still join us for the Tour to the Sunshine State.\NThe problem that the Tour organisers have now to overcome is how to get the stories from all the 69ers told during the course of the Tour.\NFull details of the Tour and Entry details available from hrcroadtours@gmail.com\NContact\N\NEnquiries to Dave Johnson 0493 812 474.\NEmail Expressions of Interest to hrcroadtours@gmail.com\N
X-ALT-DESC;FMTTYPE=text/html:<p>Exploring the country on either side of the NSW-Queensland border, the tour is inspired by the 1969 Southern Cross Rally and is traversing many of its competitive sections. The scenery is spectacular and the roads are on the most part magnificent. The terrain varies from the coastal hills to the rugged Great Dividing Range and beyond to the<br />grazing country of the Darling Downs.</p><p>A social, non-competitive Tour with the option of Regular (with gravel) or Tarmac Course of about 1,700 km.</p><p>1, 2 and 3 days options are available and particularly suitable for those who may wish to attend the Historic Leyburn Sprints.</p><p>Murwillumbah (Start) - Nimbin - Lismore (Overnight) - Woodenbong - Aratula - Toowoomba (Overnight) - Leyburn - Texas - Warwick - Toowoomba (Overnight)- Nanango - Kilcoy - Kallangur (Finish)</p><p>Tour Organiser: Ian Richards assisted by Winton Brocklebank.</p><h4>Documentation</h4><ul><li><a href="images/events/2024/240814_sunshine_poster.pdf" target="_blank" rel="noopener noreferrer">Poster</a></li><li><a href="images/events/2024/240814_sunshine_notice.pdf" target="_blank" rel="noopener noreferrer">Notice of the event</a></li><li><a href="images/events/2024/240814_sunshine_1906update.pdf" target="_blank" rel="noopener noreferrer">Update notice - 19 June</a></li><li><a href="images/events/2024/240814_sunshine_accommodation.pdf" target="_blank" rel="noopener noreferrer">Accommodation guide</a></li><li><a href="images/events/2024/240814_sunshine_entry.pdf" target="_blank" rel="noopener noreferrer">Entry form</a></li></ul><h4>Event news</h4><p>When we decided to celebrate the 1969 Southern Cross Rally in a Social Non-competitive Tour we didn’t quite realise the likely response from participants from that old event nor even if there were many still around.</p><p>Firstly while not participating in the Tour but there to talk with us at Toowoomba will be <strong>Allan Lawson</strong>, Director of the 1969 Southern Cross. That event was unlike any other Southern Cross as Allan had to go to Queensland to run it as NSW were having an issue with the Police and Shires Association, so his job was doubly difficult.</p><p>The 1969 Southern Cross was won by Andrew Cowan and Dave Johnson in a UK prepared BMC 1800, left in Australia after the London to Sydney Marathon of 1968.</p><p>Victorian rallyist, Tim Kennon, has for several years now been the owner of this car and Tim will be driving the <strong>69 SX winning car</strong> in the Tour to the Sunshine State. Entered in the marathon as a BMC 1800, as were another 7 cars including all the factory cars, and the win in the 1969 SX advertised it as an Austin 1800 (Australia didn’t sell Morris 1800s), Tim insists that he has proof that it is really a Morris 1800. The car comes with the Lucien Bianchi Trophy that it won in 69 SX.</p><p>The set-up car from 1969 was driven by <strong>Graham Thompson</strong> who will be with us again this time driving the Sweep car for the Regular Course in the Tour.</p><p>Ian Richards, Tour Organiser for the Tour to the Sunshine State will be doing set-up in August and will have <strong>Roger Bonhomme</strong> sitting beside him. Roger navigated Barry Ferguson in the Holden Dealer Team Monaro GTS to fourth place in the 1969 event. Barry himself has not yet been able to commit to enter the Tour.</p><p>Another finisher and second place in Class D in 1969 was <strong>Peter Houghton</strong>. He is joining us in August although not in the same <strong>Peugeot</strong> that he used in 1969.</p><p>Victorian<strong> Bob Watson</strong>, who led the Waltons Rally Team of Renault TS’s in the 69 SX, will be with us in August as will be <strong>Dave Boddy</strong> from Newcastle. Dave is now well recognised as one of Australia’s best navigators, but in 1969 was driving his own entered Ford Falcon. He is recorded as bettering by one minute both Andrew Cowan’s and Colin Bond’s times in a section during the 69 SX.</p><p>And we have <strong>Dave Johnson</strong>, winning navigator with Andrew Cowan for the 69 SX, on the organising team for the Tour and driving the four days of the Tour with the rest of us.</p><p>There are another couple of ex 69ers that may still join us for the Tour to the Sunshine State.</p><p>The problem that the Tour organisers have now to overcome is how to get the stories from all the 69ers told during the course of the Tour.</p><p>Full details of the Tour and Entry details available from <a href="mailto:hrcroadtours@gmail.com">hrcroadtours@gmail.com</a></p><h4>Contact</h4><ul><li>Enquiries to Dave Johnson 0493 812 474.</li><li>Email Expressions of Interest to <a href="mailto:hrcroadtours@gmail.com">hrcroadtours@gmail.com</a></li></ul>
LAST-MODIFIED:20240623T051138Z
X-ACCESS:1
X-HITS:2986
X-URL:
X-COLOR:c7b210
END:VEVENT
BEGIN:VEVENT
DTSTART;VALUE=DATE:20240825
DTEND;VALUE=DATE:20240826
UID:F1E23252-34CF-40E1-98AB-6B6024BF98F3
SUMMARY:CMC Shannons Display Day, CRC 30th Display
DTSTAMP:20231007T114904Z
DESCRIPTION:
X-ALT-DESC;FMTTYPE=text/html:
LAST-MODIFIED:20240219T043737Z
X-ACCESS:1
X-HITS:666
X-URL:
X-COLOR:c7b210
END:VEVENT
BEGIN:VEVENT
DTSTART;VALUE=DATE:20250306
DTEND;VALUE=DATE:20250309
UID:26478657-052F-4604-AC26-89BAAF67E669
SUMMARY:Tour of the Western Slopes
DTSTAMP:20231007T114904Z
DESCRIPTION:The Tour of the Western Slopes is a three-day non-competitive Social Tour begin run by the Historic Rally Club of NSW/ACT Inc.\NIt will start at Bathurst NSW and finish at Yass NSW.\NDocumentation\N\NFlyer\NEntry form\N\NContact\N\NGraham Thompson – thompson@live.com.au\N
X-ALT-DESC;FMTTYPE=text/html:<p>The Tour of the Western Slopes is a three-day non-competitive Social Tour begin run by the Historic Rally Club of NSW/ACT Inc.</p><p>It will start at Bathurst NSW and finish at Yass NSW.</p><h4>Documentation</h4><ul><li><a href="images/events/2025/250308_totws_flyer.pdf" target="_blank" rel="noopener noreferrer">Flyer</a></li><li><a href="images/events/2025/250308_totws_entry.pdf" target="_blank" rel="noopener noreferrer">Entry form</a></li></ul><h4>Contact</h4><ul><li>Graham Thompson – <a href="mailto:thompson@live.com.au">thompson@live.com.au</a></li></ul>
LAST-MODIFIED:20250220T042127Z
X-ACCESS:1
X-HITS:450
X-URL:
X-COLOR:c7b210
END:VEVENT
BEGIN:VEVENT
DTSTART;VALUE=DATE:20250807
DTEND;VALUE=DATE:20250811
UID:22D525B4-0EA7-4310-82AA-E5F3579C6E84
SUMMARY:Mallee Tour
DTSTAMP:20231007T114904Z
DESCRIPTION:The Mallee Tour is a 3-day outback motoring adventure through national parks, remote roads, and historic towns, with overnight stops in Renmark, Broken Hill, and Swan Hill.\NThe event is run by the Historic Rally Club Association of Victoria: see the event webpage for details.\N
X-ALT-DESC;FMTTYPE=text/html:<p>The Mallee Tour is a&nbsp;3-day outback motoring adventure through national parks, remote roads, and historic towns, with overnight stops in Renmark, Broken Hill, and Swan Hill.</p><p>The event is run by the Historic Rally Club Association of Victoria: see the&nbsp;<strong><a href="https://www.hra.org.au/index.cfm?module=event&amp;pageMode=indiv&amp;page_id=2684788" target="_blank" rel="noopener">event webpage</a>&nbsp;</strong>for details.</p><p></p>
LAST-MODIFIED:20250721T122015Z
X-ACCESS:1
X-HITS:291
X-URL:
X-COLOR:c7b210
END:VEVENT
BEGIN:VEVENT
DTSTART;VALUE=DATE:20250817
DTEND;VALUE=DATE:20250818
UID:75515883-B48F-46AE-9792-3B4344A75B2F
SUMMARY:CMC display day
DTSTAMP:20231007T114904Z
DESCRIPTION:Details to come.
X-ALT-DESC;FMTTYPE=text/html:<p>Details to come.</p>
LAST-MODIFIED:20250721T122141Z
X-ACCESS:1
X-HITS:445
X-URL:
X-COLOR:c7b210
END:VEVENT
END:VCALENDAR